Workbook

Sheet Vejledning
A3: Flekssaldoen fra sidste års skema indtastes i arket for januar måned (feltet markeret med gult)
A5: Har du afvigelser fra din daglige arbejdstid/normtid skal det føres i skemaet. Du skriver dato for afvigelsen, samt den tid afvigelsen er på - det gælder både plus og minus tid.
A6: Beregn forskellen mellem normal arbejdstid og registreret arbejdstid. Afvigelsen (timer/minutter) registreres i skemaet. Skriv eventuelt om årsagen til afvigelsen.
A8: Eksempel (beregning af timer/minutter til 100-dele som skal føres i arket):
B9: Timer/minutter | C9: Timer i 100 dele
A10: 0 | B10: 0.05 | C10: =((((B10-A10)-(INT(B10)-INT(A10)))/60*100))+(INT(B10)-INT(A10)) -> 0.083333333
A11: 0 | B11: 0.1 | C11: =((((B11-A11)-(INT(B11)-INT(A11)))/60*100))+(INT(B11)-INT(A11)) -> 0.16666667
A12: 0 | B12: 0.15 | C12: =((((B12-A12)-(INT(B12)-INT(A12)))/60*100))+(INT(B12)-INT(A12)) -> 0.25
A13: 0 | B13: 0.2 | C13: =((((B13-A13)-(INT(B13)-INT(A13)))/60*100))+(INT(B13)-INT(A13)) -> 0.33333333
A14: 0 | B14: 0.25 | C14: =((((B14-A14)-(INT(B14)-INT(A14)))/60*100))+(INT(B14)-INT(A14)) -> 0.41666667
A15: 0 | B15: 0.3 | C15: =((((B15-A15)-(INT(B15)-INT(A15)))/60*100))+(INT(B15)-INT(A15)) -> 0.5
A16: 0 | B16: 0.35 | C16: =((((B16-A16)-(INT(B16)-INT(A16)))/60*100))+(INT(B16)-INT(A16)) -> 0.58333333
A17: 0 | B17: 0.4 | C17: =((((B17-A17)-(INT(B17)-INT(A17)))/60*100))+(INT(B17)-INT(A17)) -> 0.66666667
A18: 0 | B18: 0.45 | C18: =((((B18-A18)-(INT(B18)-INT(A18)))/60*100))+(INT(B18)-INT(A18)) -> 0.75
A19: 0 | B19: 0.5 | C19: =((((B19-A19)-(INT(B19)-INT(A19)))/60*100))+(INT(B19)-INT(A19)) -> 0.83333333
A20: 0 | B20: 0.55 | C20: =((((B20-A20)-(INT(B20)-INT(A20)))/60*100))+(INT(B20)-INT(A20)) -> 0.91666667
A21: 0 | B21: 1 | C21: =((((B21-A21)-(INT(B21)-INT(A21)))/60*100))+(INT(B21)-INT(A21)) -> 1

Sheet Januar
A1: Indberetning af afvigelser for:
A2: Overførte timer fra 2025 (angives i 100-dele) | B2: 0 | C2: Januar
A4: Dato | B4: Timer/minutter (angives i 100-dele) | C4: Evt. bemærkninger | E4: Timer/minutter | F4: Timer/minutter i 100 dele
E5: 0.05 | F5: =((((E5-D3)-(INT(E5)-INT(D3)))/60*100))+(INT(E5)-INT(D3)) -> 0.083333333
E6: 0.1 | F6: =((((E6-D4)-(INT(E6)-INT(D4)))/60*100))+(INT(E6)-INT(D4)) -> 0.16666667
E7: 0.15 | F7: =((((E7-D5)-(INT(E7)-INT(D5)))/60*100))+(INT(E7)-INT(D5)) -> 0.25
E8: 0.2 | F8: =((((E8-D6)-(INT(E8)-INT(D6)))/60*100))+(INT(E8)-INT(D6)) -> 0.33333333
E9: 0.25 | F9: =((((E9-D7)-(INT(E9)-INT(D7)))/60*100))+(INT(E9)-INT(D7)) -> 0.41666667
E10: 0.3 | F10: =((((E10-D8)-(INT(E10)-INT(D8)))/60*100))+(INT(E10)-INT(D8)) -> 0.5
E11: 0.35 | F11: =((((E11-D9)-(INT(E11)-INT(D9)))/60*100))+(INT(E11)-INT(D9)) -> 0.58333333
E12: 0.4 | F12: =((((E12-D10)-(INT(E12)-INT(D10)))/60*100))+(INT(E12)-INT(D10)) -> 0.66666667
E13: 0.45 | F13: =((((E13-D11)-(INT(E13)-INT(D11)))/60*100))+(INT(E13)-INT(D11)) -> 0.75
E14: 0.5 | F14: =((((E14-D12)-(INT(E14)-INT(D12)))/60*100))+(INT(E14)-INT(D12)) -> 0.83333333
E15: 0.55 | F15: =((((E15-D13)-(INT(E15)-INT(D13)))/60*100))+(INT(E15)-INT(D13)) -> 0.91666667
E16: 1 | F16: =((((E16-D14)-(INT(E16)-INT(D14)))/60*100))+(INT(E16)-INT(D14)) -> 1
A36: I alt | B36: =SUM(B2:B35) -> 0

Sheet Februar
A1: Indberetning af afvigelser for:
A2: Overførte timer fra januar måned: | B2: =Januar!B36 -> 0 | C2: Februar
A4: Dato | B4: Timer | C4: Evt. bemærkninger | E4: Timer/minutter | F4: Timer/minutter i 100 dele
E5: 0.05 | F5: =((((E5-D3)-(INT(E5)-INT(D3)))/60*100))+(INT(E5)-INT(D3)) -> 0.083333333
E6: 0.1 | F6: =((((E6-D4)-(INT(E6)-INT(D4)))/60*100))+(INT(E6)-INT(D4)) -> 0.16666667
E7: 0.15 | F7: =((((E7-D5)-(INT(E7)-INT(D5)))/60*100))+(INT(E7)-INT(D5)) -> 0.25
E8: 0.2 | F8: =((((E8-D6)-(INT(E8)-INT(D6)))/60*100))+(INT(E8)-INT(D6)) -> 0.33333333
E9: 0.25 | F9: =((((E9-D7)-(INT(E9)-INT(D7)))/60*100))+(INT(E9)-INT(D7)) -> 0.41666667
E10: 0.3 | F10: =((((E10-D8)-(INT(E10)-INT(D8)))/60*100))+(INT(E10)-INT(D8)) -> 0.5
E11: 0.35 | F11: =((((E11-D9)-(INT(E11)-INT(D9)))/60*100))+(INT(E11)-INT(D9)) -> 0.58333333
E12: 0.4 | F12: =((((E12-D10)-(INT(E12)-INT(D10)))/60*100))+(INT(E12)-INT(D10)) -> 0.66666667
E13: 0.45 | F13: =((((E13-D11)-(INT(E13)-INT(D11)))/60*100))+(INT(E13)-INT(D11)) -> 0.75
E14: 0.5 | F14: =((((E14-D12)-(INT(E14)-INT(D12)))/60*100))+(INT(E14)-INT(D12)) -> 0.83333333
E15: 0.55 | F15: =((((E15-D13)-(INT(E15)-INT(D13)))/60*100))+(INT(E15)-INT(D13)) -> 0.91666667
E16: 1 | F16: =((((E16-D14)-(INT(E16)-INT(D14)))/60*100))+(INT(E16)-INT(D14)) -> 1
A33: I alt | B33: =SUM(B2:B32) -> 0

Sheet Marts
A1: Indberetning af afvigelser for:
A2: Overførte timer fra februar måned: | B2: =Februar!B33 -> 0 | C2: Marts
A4: Dato | B4: Timer | C4: Evt. bemærkninger | E4: Timer/minutter | F4: Timer/minutter i 100 dele
E5: 0.05 | F5: =((((E5-D3)-(INT(E5)-INT(D3)))/60*100))+(INT(E5)-INT(D3)) -> 0.083333333
E6: 0.1 | F6: =((((E6-D4)-(INT(E6)-INT(D4)))/60*100))+(INT(E6)-INT(D4)) -> 0.16666667
E7: 0.15 | F7: =((((E7-D5)-(INT(E7)-INT(D5)))/60*100))+(INT(E7)-INT(D5)) -> 0.25
E8: 0.2 | F8: =((((E8-D6)-(INT(E8)-INT(D6)))/60*100))+(INT(E8)-INT(D6)) -> 0.33333333
E9: 0.25 | F9: =((((E9-D7)-(INT(E9)-INT(D7)))/60*100))+(INT(E9)-INT(D7)) -> 0.41666667
E10: 0.3 | F10: =((((E10-D8)-(INT(E10)-INT(D8)))/60*100))+(INT(E10)-INT(D8)) -> 0.5
E11: 0.35 | F11: =((((E11-D9)-(INT(E11)-INT(D9)))/60*100))+(INT(E11)-INT(D9)) -> 0.58333333
E12: 0.4 | F12: =((((E12-D10)-(INT(E12)-INT(D10)))/60*100))+(INT(E12)-INT(D10)) -> 0.66666667
E13: 0.45 | F13: =((((E13-D11)-(INT(E13)-INT(D11)))/60*100))+(INT(E13)-INT(D11)) -> 0.75
E14: 0.5 | F14: =((((E14-D12)-(INT(E14)-INT(D12)))/60*100))+(INT(E14)-INT(D12)) -> 0.83333333
E15: 0.55 | F15: =((((E15-D13)-(INT(E15)-INT(D13)))/60*100))+(INT(E15)-INT(D13)) -> 0.91666667
E16: 1 | F16: =((((E16-D14)-(INT(E16)-INT(D14)))/60*100))+(INT(E16)-INT(D14)) -> 1
A36: I alt | B36: =SUM(B2:B35) -> 0

Sheet April
A1: Indberetning af afvigelser for:
A2: Overførte timer fra marts måned: | B2: =Marts!B36 -> 0 | C2: April
A4: Dato | C4: Evt. bemærkninger | E4: Timer/minutter | F4: Timer/minutter i 100 dele
E5: 0.05 | F5: =((((E5-D3)-(INT(E5)-INT(D3)))/60*100))+(INT(E5)-INT(D3)) -> 0.083333333
E6: 0.1 | F6: =((((E6-D4)-(INT(E6)-INT(D4)))/60*100))+(INT(E6)-INT(D4)) -> 0.16666667
E7: 0.15 | F7: =((((E7-D5)-(INT(E7)-INT(D5)))/60*100))+(INT(E7)-INT(D5)) -> 0.25
E8: 0.2 | F8: =((((E8-D6)-(INT(E8)-INT(D6)))/60*100))+(INT(E8)-INT(D6)) -> 0.33333333
E9: 0.25 | F9: =((((E9-D7)-(INT(E9)-INT(D7)))/60*100))+(INT(E9)-INT(D7)) -> 0.41666667
E10: 0.3 | F10: =((((E10-D8)-(INT(E10)-INT(D8)))/60*100))+(INT(E10)-INT(D8)) -> 0.5
E11: 0.35 | F11: =((((E11-D9)-(INT(E11)-INT(D9)))/60*100))+(INT(E11)-INT(D9)) -> 0.58333333
E12: 0.4 | F12: =((((E12-D10)-(INT(E12)-INT(D10)))/60*100))+(INT(E12)-INT(D10)) -> 0.66666667
E13: 0.45 | F13: =((((E13-D11)-(INT(E13)-INT(D11)))/60*100))+(INT(E13)-INT(D11)) -> 0.75
E14: 0.5 | F14: =((((E14-D12)-(INT(E14)-INT(D12)))/60*100))+(INT(E14)-INT(D12)) -> 0.83333333
E15: 0.55 | F15: =((((E15-D13)-(INT(E15)-INT(D13)))/60*100))+(INT(E15)-INT(D13)) -> 0.91666667
E16: 1 | F16: =((((E16-D14)-(INT(E16)-INT(D14)))/60*100))+(INT(E16)-INT(D14)) -> 1
A35: I alt | B35: =SUM(B2:B34) -> 0

Sheet Maj
A1: Indberetning af afvigelser for:
A2: Overførte timer fra april måned: | B2: =April!B35 -> 0 | C2: Maj
A4: Dato | B4: Timer | C4: Evt. bemærkninger | E4: Timer/minutter | F4: Timer/minutter i 100 dele
E5: 0.05 | F5: =((((E5-D3)-(INT(E5)-INT(D3)))/60*100))+(INT(E5)-INT(D3)) -> 0.083333333
E6: 0.1 | F6: =((((E6-D4)-(INT(E6)-INT(D4)))/60*100))+(INT(E6)-INT(D4)) -> 0.16666667
E7: 0.15 | F7: =((((E7-D5)-(INT(E7)-INT(D5)))/60*100))+(INT(E7)-INT(D5)) -> 0.25
E8: 0.2 | F8: =((((E8-D6)-(INT(E8)-INT(D6)))/60*100))+(INT(E8)-INT(D6)) -> 0.33333333
E9: 0.25 | F9: =((((E9-D7)-(INT(E9)-INT(D7)))/60*100))+(INT(E9)-INT(D7)) -> 0.41666667
E10: 0.3 | F10: =((((E10-D8)-(INT(E10)-INT(D8)))/60*100))+(INT(E10)-INT(D8)) -> 0.5
E11: 0.35 | F11: =((((E11-D9)-(INT(E11)-INT(D9)))/60*100))+(INT(E11)-INT(D9)) -> 0.58333333
E12: 0.4 | F12: =((((E12-D10)-(INT(E12)-INT(D10)))/60*100))+(INT(E12)-INT(D10)) -> 0.66666667
E13: 0.45 | F13: =((((E13-D11)-(INT(E13)-INT(D11)))/60*100))+(INT(E13)-INT(D11)) -> 0.75
E14: 0.5 | F14: =((((E14-D12)-(INT(E14)-INT(D12)))/60*100))+(INT(E14)-INT(D12)) -> 0.83333333
E15: 0.55 | F15: =((((E15-D13)-(INT(E15)-INT(D13)))/60*100))+(INT(E15)-INT(D13)) -> 0.91666667
E16: 1 | F16: =((((E16-D14)-(INT(E16)-INT(D14)))/60*100))+(INT(E16)-INT(D14)) -> 1
A36: I alt | B36: =SUM(B2:B35) -> 0

Sheet Juni
A1: Indberetning af afvigelser for:
A2: Overførte timer fra maj måned: | B2: =Maj!B36 -> 0 | C2: Juni
A4: Dato | C4: Evt. bemærkninger | E4: Timer/minutter | F4: Timer/minutter i 100 dele
E5: 0.05 | F5: =((((E5-D3)-(INT(E5)-INT(D3)))/60*100))+(INT(E5)-INT(D3)) -> 0.083333333
E6: 0.1 | F6: =((((E6-D4)-(INT(E6)-INT(D4)))/60*100))+(INT(E6)-INT(D4)) -> 0.16666667
E7: 0.15 | F7: =((((E7-D5)-(INT(E7)-INT(D5)))/60*100))+(INT(E7)-INT(D5)) -> 0.25
E8: 0.2 | F8: =((((E8-D6)-(INT(E8)-INT(D6)))/60*100))+(INT(E8)-INT(D6)) -> 0.33333333
E9: 0.25 | F9: =((((E9-D7)-(INT(E9)-INT(D7)))/60*100))+(INT(E9)-INT(D7)) -> 0.41666667
E10: 0.3 | F10: =((((E10-D8)-(INT(E10)-INT(D8)))/60*100))+(INT(E10)-INT(D8)) -> 0.5
E11: 0.35 | F11: =((((E11-D9)-(INT(E11)-INT(D9)))/60*100))+(INT(E11)-INT(D9)) -> 0.58333333
E12: 0.4 | F12: =((((E12-D10)-(INT(E12)-INT(D10)))/60*100))+(INT(E12)-INT(D10)) -> 0.66666667
E13: 0.45 | F13: =((((E13-D11)-(INT(E13)-INT(D11)))/60*100))+(INT(E13)-INT(D11)) -> 0.75
E14: 0.5 | F14: =((((E14-D12)-(INT(E14)-INT(D12)))/60*100))+(INT(E14)-INT(D12)) -> 0.83333333
E15: 0.55 | F15: =((((E15-D13)-(INT(E15)-INT(D13)))/60*100))+(INT(E15)-INT(D13)) -> 0.91666667
E16: 1 | F16: =((((E16-D14)-(INT(E16)-INT(D14)))/60*100))+(INT(E16)-INT(D14)) -> 1
A35: I alt | B35: =SUM(B2:B34) -> 0

Sheet Juli
A1: Indberetning af afvigelser for:
A2: Overførte timer fra juni måned: | B2: =Juni!B35 -> 0 | C2: Juli
A4: Dato | C4: Evt. bemærkninger | E4: Timer/minutter | F4: Timer/minutter i 100 dele
E5: 0.05 | F5: =((((E5-D3)-(INT(E5)-INT(D3)))/60*100))+(INT(E5)-INT(D3)) -> 0.083333333
E6: 0.1 | F6: =((((E6-D4)-(INT(E6)-INT(D4)))/60*100))+(INT(E6)-INT(D4)) -> 0.16666667
E7: 0.15 | F7: =((((E7-D5)-(INT(E7)-INT(D5)))/60*100))+(INT(E7)-INT(D5)) -> 0.25
E8: 0.2 | F8: =((((E8-D6)-(INT(E8)-INT(D6)))/60*100))+(INT(E8)-INT(D6)) -> 0.33333333
E9: 0.25 | F9: =((((E9-D7)-(INT(E9)-INT(D7)))/60*100))+(INT(E9)-INT(D7)) -> 0.41666667
E10: 0.3 | F10: =((((E10-D8)-(INT(E10)-INT(D8)))/60*100))+(INT(E10)-INT(D8)) -> 0.5
E11: 0.35 | F11: =((((E11-D9)-(INT(E11)-INT(D9)))/60*100))+(INT(E11)-INT(D9)) -> 0.58333333
E12: 0.4 | F12: =((((E12-D10)-(INT(E12)-INT(D10)))/60*100))+(INT(E12)-INT(D10)) -> 0.66666667
E13: 0.45 | F13: =((((E13-D11)-(INT(E13)-INT(D11)))/60*100))+(INT(E13)-INT(D11)) -> 0.75
E14: 0.5 | F14: =((((E14-D12)-(INT(E14)-INT(D12)))/60*100))+(INT(E14)-INT(D12)) -> 0.83333333
E15: 0.55 | F15: =((((E15-D13)-(INT(E15)-INT(D13)))/60*100))+(INT(E15)-INT(D13)) -> 0.91666667
E16: 1 | F16: =((((E16-D14)-(INT(E16)-INT(D14)))/60*100))+(INT(E16)-INT(D14)) -> 1
A36: I alt | B36: =SUM(B2:B35) -> 0

Sheet August
A1: Indberetning af afvigelser for:
A2: Overførte timer fra juli måned: | B2: =Juli!B36 -> 0 | C2: August
A4: Dato | B4: Timer | C4: Evt. bemærkninger | E4: Timer/minutter | F4: Timer/minutter i 100 dele
E5: 0.05 | F5: =((((E5-D3)-(INT(E5)-INT(D3)))/60*100))+(INT(E5)-INT(D3)) -> 0.083333333
E6: 0.1 | F6: =((((E6-D4)-(INT(E6)-INT(D4)))/60*100))+(INT(E6)-INT(D4)) -> 0.16666667
E7: 0.15 | F7: =((((E7-D5)-(INT(E7)-INT(D5)))/60*100))+(INT(E7)-INT(D5)) -> 0.25
E8: 0.2 | F8: =((((E8-D6)-(INT(E8)-INT(D6)))/60*100))+(INT(E8)-INT(D6)) -> 0.33333333
E9: 0.25 | F9: =((((E9-D7)-(INT(E9)-INT(D7)))/60*100))+(INT(E9)-INT(D7)) -> 0.41666667
E10: 0.3 | F10: =((((E10-D8)-(INT(E10)-INT(D8)))/60*100))+(INT(E10)-INT(D8)) -> 0.5
E11: 0.35 | F11: =((((E11-D9)-(INT(E11)-INT(D9)))/60*100))+(INT(E11)-INT(D9)) -> 0.58333333
E12: 0.4 | F12: =((((E12-D10)-(INT(E12)-INT(D10)))/60*100))+(INT(E12)-INT(D10)) -> 0.66666667
E13: 0.45 | F13: =((((E13-D11)-(INT(E13)-INT(D11)))/60*100))+(INT(E13)-INT(D11)) -> 0.75
E14: 0.5 | F14: =((((E14-D12)-(INT(E14)-INT(D12)))/60*100))+(INT(E14)-INT(D12)) -> 0.83333333
E15: 0.55 | F15: =((((E15-D13)-(INT(E15)-INT(D13)))/60*100))+(INT(E15)-INT(D13)) -> 0.91666667
E16: 1 | F16: =((((E16-D14)-(INT(E16)-INT(D14)))/60*100))+(INT(E16)-INT(D14)) -> 1
A36: I alt | B36: =SUM(B2:B35) -> 0

Sheet September
A1: Indberetning af afvigelser for:
A2: Overførte timer fra august måned: | B2: =August!B36 -> 0 | C2: September
A4: Dato | B4: Timer | C4: Evt. bemærkninger | E4: Timer/minutter | F4: Timer/minutter i 100 dele
E5: 0.05 | F5: =((((E5-D3)-(INT(E5)-INT(D3)))/60*100))+(INT(E5)-INT(D3)) -> 0.083333333
E6: 0.1 | F6: =((((E6-D4)-(INT(E6)-INT(D4)))/60*100))+(INT(E6)-INT(D4)) -> 0.16666667
E7: 0.15 | F7: =((((E7-D5)-(INT(E7)-INT(D5)))/60*100))+(INT(E7)-INT(D5)) -> 0.25
E8: 0.2 | F8: =((((E8-D6)-(INT(E8)-INT(D6)))/60*100))+(INT(E8)-INT(D6)) -> 0.33333333
E9: 0.25 | F9: =((((E9-D7)-(INT(E9)-INT(D7)))/60*100))+(INT(E9)-INT(D7)) -> 0.41666667
E10: 0.3 | F10: =((((E10-D8)-(INT(E10)-INT(D8)))/60*100))+(INT(E10)-INT(D8)) -> 0.5
E11: 0.35 | F11: =((((E11-D9)-(INT(E11)-INT(D9)))/60*100))+(INT(E11)-INT(D9)) -> 0.58333333
E12: 0.4 | F12: =((((E12-D10)-(INT(E12)-INT(D10)))/60*100))+(INT(E12)-INT(D10)) -> 0.66666667
E13: 0.45 | F13: =((((E13-D11)-(INT(E13)-INT(D11)))/60*100))+(INT(E13)-INT(D11)) -> 0.75
E14: 0.5 | F14: =((((E14-D12)-(INT(E14)-INT(D12)))/60*100))+(INT(E14)-INT(D12)) -> 0.83333333
E15: 0.55 | F15: =((((E15-D13)-(INT(E15)-INT(D13)))/60*100))+(INT(E15)-INT(D13)) -> 0.91666667
E16: 1 | F16: =((((E16-D14)-(INT(E16)-INT(D14)))/60*100))+(INT(E16)-INT(D14)) -> 1
A35: I alt | B35: =SUM(B2:B34) -> 0

Sheet Oktober
A1: Indberetning af afvigelser for:
A2: Overførte timer fra september måned: | B2: =September!B35 -> 0 | C2: Oktober
A4: Dato | B4: Timer | C4: Evt. bemærkninger | E4: Timer/minutter | F4: Timer/minutter i 100 dele
E5: 0.05 | F5: =((((E5-D3)-(INT(E5)-INT(D3)))/60*100))+(INT(E5)-INT(D3)) -> 0.083333333
E6: 0.1 | F6: =((((E6-D4)-(INT(E6)-INT(D4)))/60*100))+(INT(E6)-INT(D4)) -> 0.16666667
E7: 0.15 | F7: =((((E7-D5)-(INT(E7)-INT(D5)))/60*100))+(INT(E7)-INT(D5)) -> 0.25
E8: 0.2 | F8: =((((E8-D6)-(INT(E8)-INT(D6)))/60*100))+(INT(E8)-INT(D6)) -> 0.33333333
E9: 0.25 | F9: =((((E9-D7)-(INT(E9)-INT(D7)))/60*100))+(INT(E9)-INT(D7)) -> 0.41666667
E10: 0.3 | F10: =((((E10-D8)-(INT(E10)-INT(D8)))/60*100))+(INT(E10)-INT(D8)) -> 0.5
E11: 0.35 | F11: =((((E11-D9)-(INT(E11)-INT(D9)))/60*100))+(INT(E11)-INT(D9)) -> 0.58333333
E12: 0.4 | F12: =((((E12-D10)-(INT(E12)-INT(D10)))/60*100))+(INT(E12)-INT(D10)) -> 0.66666667
E13: 0.45 | F13: =((((E13-D11)-(INT(E13)-INT(D11)))/60*100))+(INT(E13)-INT(D11)) -> 0.75
E14: 0.5 | F14: =((((E14-D12)-(INT(E14)-INT(D12)))/60*100))+(INT(E14)-INT(D12)) -> 0.83333333
E15: 0.55 | F15: =((((E15-D13)-(INT(E15)-INT(D13)))/60*100))+(INT(E15)-INT(D13)) -> 0.91666667
E16: 1 | F16: =((((E16-D14)-(INT(E16)-INT(D14)))/60*100))+(INT(E16)-INT(D14)) -> 1
A36: I alt | B36: =SUM(B2:B35) -> 0

Sheet November
A1: Indberetning af afvigelser for:
A2: Overførte timer fra oktober måned: | B2: =Oktober!B36 -> 0 | C2: November
A4: Dato | B4: Timer | C4: Evt. bemærkninger | E4: Timer/minutter | F4: Timer/minutter i 100 dele
E5: 0.05 | F5: =((((E5-D3)-(INT(E5)-INT(D3)))/60*100))+(INT(E5)-INT(D3)) -> 0.083333333
E6: 0.1 | F6: =((((E6-D4)-(INT(E6)-INT(D4)))/60*100))+(INT(E6)-INT(D4)) -> 0.16666667
E7: 0.15 | F7: =((((E7-D5)-(INT(E7)-INT(D5)))/60*100))+(INT(E7)-INT(D5)) -> 0.25
E8: 0.2 | F8: =((((E8-D6)-(INT(E8)-INT(D6)))/60*100))+(INT(E8)-INT(D6)) -> 0.33333333
E9: 0.25 | F9: =((((E9-D7)-(INT(E9)-INT(D7)))/60*100))+(INT(E9)-INT(D7)) -> 0.41666667
E10: 0.3 | F10: =((((E10-D8)-(INT(E10)-INT(D8)))/60*100))+(INT(E10)-INT(D8)) -> 0.5
E11: 0.35 | F11: =((((E11-D9)-(INT(E11)-INT(D9)))/60*100))+(INT(E11)-INT(D9)) -> 0.58333333
E12: 0.4 | F12: =((((E12-D10)-(INT(E12)-INT(D10)))/60*100))+(INT(E12)-INT(D10)) -> 0.66666667
E13: 0.45 | F13: =((((E13-D11)-(INT(E13)-INT(D11)))/60*100))+(INT(E13)-INT(D11)) -> 0.75
E14: 0.5 | F14: =((((E14-D12)-(INT(E14)-INT(D12)))/60*100))+(INT(E14)-INT(D12)) -> 0.83333333
E15: 0.55 | F15: =((((E15-D13)-(INT(E15)-INT(D13)))/60*100))+(INT(E15)-INT(D13)) -> 0.91666667
E16: 1 | F16: =((((E16-D14)-(INT(E16)-INT(D14)))/60*100))+(INT(E16)-INT(D14)) -> 1
A35: I alt | B35: =SUM(B2:B34) -> 0

Sheet December
A1: Indberetning af afvigelser for:
A2: Overførte timer fra december måned: | B2: =November!B35 -> 0 | C2: December
A4: Dato | B4: Timer | C4: Evt. bemærkninger | E4: Timer/minutter | F4: Timer/minutter i 100 dele
E5: 0.05 | F5: =((((E5-D3)-(INT(E5)-INT(D3)))/60*100))+(INT(E5)-INT(D3)) -> 0.083333333
E6: 0.1 | F6: =((((E6-D4)-(INT(E6)-INT(D4)))/60*100))+(INT(E6)-INT(D4)) -> 0.16666667
E7: 0.15 | F7: =((((E7-D5)-(INT(E7)-INT(D5)))/60*100))+(INT(E7)-INT(D5)) -> 0.25
E8: 0.2 | F8: =((((E8-D6)-(INT(E8)-INT(D6)))/60*100))+(INT(E8)-INT(D6)) -> 0.33333333
E9: 0.25 | F9: =((((E9-D7)-(INT(E9)-INT(D7)))/60*100))+(INT(E9)-INT(D7)) -> 0.41666667
E10: 0.3 | F10: =((((E10-D8)-(INT(E10)-INT(D8)))/60*100))+(INT(E10)-INT(D8)) -> 0.5
E11: 0.35 | F11: =((((E11-D9)-(INT(E11)-INT(D9)))/60*100))+(INT(E11)-INT(D9)) -> 0.58333333
E12: 0.4 | F12: =((((E12-D10)-(INT(E12)-INT(D10)))/60*100))+(INT(E12)-INT(D10)) -> 0.66666667
E13: 0.45 | F13: =((((E13-D11)-(INT(E13)-INT(D11)))/60*100))+(INT(E13)-INT(D11)) -> 0.75
E14: 0.5 | F14: =((((E14-D12)-(INT(E14)-INT(D12)))/60*100))+(INT(E14)-INT(D12)) -> 0.83333333
E15: 0.55 | F15: =((((E15-D13)-(INT(E15)-INT(D13)))/60*100))+(INT(E15)-INT(D13)) -> 0.91666667
E16: 1 | F16: =((((E16-D14)-(INT(E16)-INT(D14)))/60*100))+(INT(E16)-INT(D14)) -> 1
A36: I alt | B36: =SUM(B2:B35) -> 0
